Workbook

Sheet Datos
A1: Fecha | B1: Jornada | C1: Provincia | D1: Ciudad | E1: Local | F1: Promotor | G1: Producto | H1: Precio | I1: Cantidad | J1: Total Ventas
A2: 46277 | B2: SEPTIEMBRE DEL 7 AL 13 | C2: Manabí | D2: Portoviejo | E2: Gonzálo Zambrano matriz | F2: Sandra Gabriela MUGUERZA MACIAS | G2: Blendax Cepillo 2x1 | H2: 2.3 | I2: 3 | J2: =H2*I2 -> 6.9
A3: 46277 | B3: SEPTIEMBRE DEL 7 AL 13 | C3: Manabí | D3: Portoviejo | E3: Gonzálo Zambrano matriz | F3: Sandra Gabriela MUGUERZA MACIAS | G3: BLENDAX FULL MENTA PASTA DENTAL . Unidad 74 g | H3: 0.85 | I3: 9 | J3: =H3*I3 -> 7.65
A4: 46277 | B4: SEPTIEMBRE DEL 7 AL 13 | C4: Manabí | D4: Portoviejo | E4: Gonzálo Zambrano matriz | F4: Sandra Gabriela MUGUERZA MACIAS | G4: Blendax Multi-Acción X6 Unidades 75 ml | H4: 0.85 | I4: 14 | J4: =H4*I4 -> 11.9
A5: 46277 | B5: SEPTIEMBRE DEL 7 AL 13 | C5: Manabí | D5: Portoviejo | E5: Comercial Casanova | F5: Sandra Gabriela MUGUERZA MACIAS | G5: Blendax 6 Pasta Multi Accion Pasta Carton 1 Unidad | H5: 0.95 | I5: 17 | J5: =H5*I5 -> 16.15
A6: 46277 | B6: SEPTIEMBRE DEL 7 AL 13 | C6: Manabí | D6: Portoviejo | E6: Comercial Casanova | F6: Sandra Gabriela MUGUERZA MACIAS | G6: Blendax Cepillo X3 Unidades | H6: 3.1 | I6: 7 | J6: =H6*I6 -> 21.7
A7: 46284 | B7: SEPTIEMBRE DEL 14 AL 20 | C7: Manabí | D7: Tosagua | E7: Roberth Ponce - Comercial Roberth Ponce | F7: MARIA DANIELA CEDEÑO LUCAS | G7: Blendax Combo Blendax Multi AcciÓn 2x1 82gr Pasta Dental Unidad Unidad 1 | H7: 1.5 | I7: 41 | J7: =H7*I7 -> 61.5
A8: 46284 | B8: SEPTIEMBRE DEL 14 AL 20 | C8: Manabí | D8: Tosagua | E8: Roberth Ponce - Comercial Roberth Ponce | F8: MARIA DANIELA CEDEÑO LUCAS | G8: Blendax Multi Accion Mega Pasta Dental Multi - AcciÒn Unidad 82 Gramos | H8: 0.8 | I8: 7 | J8: =H8*I8 -> 5.6
A9: 46284 | B9: SEPTIEMBRE DEL 14 AL 20 | C9: Guayas | D9: Pedro Carbo | E9: Ericorla S.A. - Supermercado Marisol (C) | F9: Gloria Veronica Ponce Ganchoso | G9: Blendax Blendax Pasta Full Menta Pague 2 Lleve 3 Caja 60cc 1 1 Unidades | H9: 2.75 | I9: 3 | J9: =H9*I9 -> 8.25
A10: 46284 | B10: SEPTIEMBRE DEL 14 AL 20 | C10: Guayas | D10: Pedro Carbo | E10: Ericorla S.A. - Supermercado Marisol (C) | F10: Gloria Veronica Ponce Ganchoso | G10: BLENDAX FULL MENTA PASTA DENTAL . Unidad 74 g | H10: 0.8 | I10: 25 | J10: =H10*I10 -> 20
A11: 46284 | B11: SEPTIEMBRE DEL 14 AL 20 | C11: Guayas | D11: Pedro Carbo | E11: Ericorla S.A. - Supermercado Marisol (C) | F11: Gloria Veronica Ponce Ganchoso | G11: Blendax Blendax Ultra Frescura . 1 Unidad | H11: 0.92 | I11: 15 | J11: =H11*I11 -> 13.8
A12: 46284 | B12: SEPTIEMBRE DEL 14 AL 20 | C12: Loja | D12: Loja | E12: COMERCIALIZADORA RAMIREZ GALVAN (ZERIMAR PITAS) | F12: Ashly Jamel Martínez Jiménez | G12: Blendax Multi-Acción Blanqueadora Menta | H12: 1.82 | I12: 5 | J12: =H12*I12 -> 9.1
A13: 46284 | B13: SEPTIEMBRE DEL 14 AL 20 | C13: Loja | D13: Loja | E13: COMERCIALIZADORA RAMIREZ GALVAN (ZERIMAR PITAS) | F13: Ashly Jamel Martínez Jiménez | G13: Blendax Aloe Vera Pasta Dental Aloe Vera Caja 75 Cc | H13: 1.95 | I13: 4 | J13: =H13*I13 -> 7.8
... A112: 46298 | B112: OCTUBRE DEL 01 AL 04 | C112: Guayas | D112: Milagro | E112: DEVIES | F112: PATRICIA NAGELY PEÑAFIEL ARREAGA | G112: Blendax Pack Multi - Accion Enguaje Bucal + Pasta + Cepillo . Paquete X1 0 . | H112: 3 | I112: 10 | J112: =H112*I112 -> 30
A113: 2026-10-03 | B113: OCTUBRE DEL 01 AL 04 | C113: Guayas | D113: Milagro | E113: DEVIES | F113: PATRICIA NAGELY PEÑAFIEL ARREAGA | G113: Blendax Pack Multi Accion Pasta Dental Unidad . 1 | H113: 0.75 | I113: 9 | J113: =H113*I113 -> 6.75
A114: 46298 | B114: OCTUBRE DEL 01 AL 04 | C114: Guayas | D114: Milagro | E114: DEVIES | F114: PATRICIA NAGELY PEÑAFIEL ARREAGA | G114: Blendax Pasta Blendy Cool Fresa . X1 34 Gramos | H114: 0.69 | I114: 9 | J114: =H114*I114 -> 6.21
A115: 46298 | B115: OCTUBRE DEL 01 AL 04 | C115: Guayas | D115: Milagro | E115: DEVIES | F115: PATRICIA NAGELY PEÑAFIEL ARREAGA | G115: Blendax Pasta Dental Full Menta Tubo 75 Cc | H115: 0.75 | I115: 16 | J115: =H115*I115 -> 12
A116: 2026-10-03 | B116: OCTUBRE DEL 01 AL 04 | C116: Guayas | D116: Milagro | E116: DEVIES | F116: PATRICIA NAGELY PEÑAFIEL ARREAGA | G116: Blendax Pasta Dental Multiaccion X4 + Cepillo 4pack 82 Gramos | H116: 3 | I116: 5 | J116: =H116*I116 -> 15
A117: 46298 | B117: OCTUBRE DEL 01 AL 04 | C117: Guayas | D117: Milagro | E117: DEVIES | F117: PATRICIA NAGELY PEÑAFIEL ARREAGA | G117: Blendax Xtreme White Pasta Dental Xtreme White Tubo 75 Cc | H117: 2.09 | I117: 2 | J117: =H117*I117 -> 4.18
A118: 2026-10-03 | B118: OCTUBRE DEL 01 AL 04 | C118: Guayas | D118: Milagro | E118: DEVIES | F118: PATRICIA NAGELY PEÑAFIEL ARREAGA | G118: Blendy Kit Escolar Crema Dental+cepillo+toall Blendy Kit Vaso 75 Cc | H118: 2.13 | I118: 4 | J118: =H118*I118 -> 8.52
A119: 46298 | B119: OCTUBRE DEL 01 AL 04 | C119: Guayas | D119: Milagro | E119: DEVIES | F119: PATRICIA NAGELY PEÑAFIEL ARREAGA | G119: Blendy . Tutti Fruti . Unidad 82 Gramos | H119: 1.65 | I119: 1 | J119: =H119*I119 -> 1.65
A120: 46298 | B120: OCTUBRE DEL 01 AL 04 | C120: Guayas | D120: Milagro | E120: DEVIES | F120: PATRICIA NAGELY PEÑAFIEL ARREAGA | G120: Blendy Baby | H120: 2 | I120: 3 | J120: =H120*I120 -> 6

Sheet Trazabilidad
A1: Trazabilidad de depuración
A2: Copia depurada; el archivo original permanece intacto. No se modificaron precios, cantidades, fechas ni fórmulas.
A4: Conciliación
A5: Métrica | B5: Antes | C5: Después | D5: Diferencia
A6: Filas | B6: 74 | C6: =COUNTA(Datos!A2:A75) -> 74 | D6: =C6-B6 -> 0
A7: Columnas | B7: 10 | C7: =COUNTA(Datos!A1:J1) -> 10 | D7: =C7-B7 -> 0
A8: Unidades | B8: 717 | C8: =SUM(Datos!I2:I75) -> 717 | D8: =C8-B8 -> 0
A9: Ventas | B9: 911.42 | C9: =SUM(Datos!J2:J75) -> 911.42 | D9: =C9-B9 -> 0
A10: Fecha mínima | B10: 46277 | C10: =MIN(Datos!A2:A75) -> 46277 | D10: =C10-B10 -> 0
A11: Fecha máxima | B11: 46291 | C11: =MAX(Datos!A2:A75) -> 46291 | D11: =C11-B11 -> 0
A13: Registro de cambios
A14: ID | B14: Hoja | C14: Celda | D14: Campo | E14: Valor original | F14: Valor propuesto | G14: Regla | H14: Aprobación
A15: D01-2 | B15: Datos | C15: G2 | D15: Producto | E15: Blendax Cepillo 2x1 | F15: Blendax Cepillo 2x1 | G15: Colapsar espacios repetidos y eliminar espacios laterales | H15: Autorizado por Alan
A16: D01-3 | B16: Datos | C16: G3 | D16: Producto | E16: BLENDAX FULL MENTA PASTA DENTAL . Unidad 74 g | F16: BLENDAX FULL MENTA PASTA DENTAL . Unidad 74 g | G16: Colapsar espacios repetidos y eliminar espacios laterales | H16: Autorizado por Alan
A17: D01-4 | B17: Datos | C17: G4 | D17: Producto | E17: Blendax Multi-Acción X6 Unidades 75 ml | F17: Blendax Multi-Acción X6 Unidades 75 ml | G17: Colapsar espacios repetidos y eliminar espacios laterales | H17: Autorizado por Alan
A18: D01-9 | B18: Datos | C18: G9 | D18: Producto | E18: Blendax Blendax Pasta Full Menta Pague 2 Lleve 3 Caja 60cc 1 1 Unidades | F18: Blendax Blendax Pasta Full Menta Pague 2 Lleve 3 Caja 60cc 1 1 Unidades | G18: Colapsar espacios repetidos y eliminar espacios laterales | H18: Autorizado por Alan
A19: D01-10 | B19: Datos | C19: G10 | D19: Producto | E19: BLENDAX FULL MENTA PASTA DENTAL . Unidad 74 g | F19: BLENDAX FULL MENTA PASTA DENTAL . Unidad 74 g | G19: Colapsar espacios repetidos y eliminar espacios laterales | H19: Autorizado por Alan
A20: D01-11 | B20: Datos | C20: G11 | D20: Producto | E20: Blendax Blendax Ultra Frescura . 1 Unidad | F20: Blendax Blendax Ultra Frescura . 1 Unidad | G20: Colapsar espacios repetidos y eliminar espacios laterales | H20: Autorizado por Alan
A21: D01-14 | B21: Datos | C21: G14 | D21: Producto | E21: Blendax Blendax Pasta Full Menta Pague 2 Lleve 3 Caja 60cc 1 1 Unidades | F21: Blendax Blendax Pasta Full Menta Pague 2 Lleve 3 Caja 60cc 1 1 Unidades | G21: Colapsar espacios repetidos y eliminar espacios laterales | H21: Autorizado por Alan
A22: D01-15 | B22: Datos | C22: G15 | D22: Producto | E22: Blendax Blendax Ultra Frescura . 1 Unidad | F22: Blendax Blendax Ultra Frescura . 1 Unidad | G22: Colapsar espacios repetidos y eliminar espacios laterales | H22: Autorizado por Alan
A23: D01-16 | B23: Datos | C23: G16 | D23: Producto | E23: BLENDAX FULL MENTA PASTA DENTAL . Unidad 74 g | F23: BLENDAX FULL MENTA PASTA DENTAL . Unidad 74 g | G23: Colapsar espacios repetidos y eliminar espacios laterales | H23: Autorizado por Alan
A24: D01-20 | B24: Datos | C24: G20 | D24: Producto | E24: Blendax Cepillo 2x1 | F24: Blendax Cepillo 2x1 | G24: Colapsar espacios repetidos y eliminar espacios laterales | H24: Autorizado por Alan
A25: D01-21 | B25: Datos | C25: G21 | D25: Producto | E25: BLENDAX FULL MENTA PASTA DENTAL . Unidad 74 g | F25: BLENDAX FULL MENTA PASTA DENTAL . Unidad 74 g | G25: Colapsar espacios repetidos y eliminar espacios laterales | H25: Autorizado por Alan
... A55: D03-106 | B55: Datos | C55: H106 | D55: Precio | E55: 5,00 | F55: 0,90 | G55: Precio atípico (5,00 vs 0,81 a 0,95 en registros anteriores): se reemplaza por el promedio de los registros anteriores del producto. La venta se recalcula por fórmula (25,00 a 4,50) | H55: Autorizado por Alan (06/10/2026)
